BEGIN:VCALENDAR
VERSION:2.0
PRODID:-//Tukios.com/
BEGIN:VEVENT
UID:c4ce712d-e20a-4613-9663-ac974ddc8520@www.sewellfuneralhomes.com
DTSTAMP:20260423T221034Z
DTSTART:20260930T210000Z
DTEND:20260930T230000Z
SUMMARY:Visitation
DESCRIPTION:
URL:https://www.sewellfuneralhomes.com/obituaries/alice-nalls
LOCATION:Sewell Mortuary 220 Charlie Patterson Road  Grantville GA 30220
GEO:33.2413062;-84.8132891
END:VEVENT
END:VCALENDAR