BEGIN:VCALENDAR
VERSION:2.0
PRODID:-//Tukios.com/
BEGIN:VEVENT
UID:deb3d698-5dc4-4123-9550-aae64d9ae099@www.sewellfuneralhomes.com
DTSTAMP:20260423T221141Z
DTSTART:20261001T170000Z
DTEND:20261001T180000Z
SUMMARY:Graveside Service
DESCRIPTION:
URL:https://www.sewellfuneralhomes.com/obituaries/alice-nalls
LOCATION:Greater Jehovah Baptist Church 2 Roger Arnold Road  Grantville 
	GA 30220
GEO:33.2386676;-84.827199
END:VEVENT
END:VCALENDAR