BEGIN:VCALENDAR
VERSION:2.0
PRODID:-//Tukios.com/
BEGIN:VEVENT
UID:1d24fc1e-70c8-43ea-9418-d29ee43cd51c@www.sewellfuneralhomes.com
DTSTAMP:20260424T153611Z
DTSTART:20260613T200000Z
DTEND:20260613T220000Z
SUMMARY:Visitation
DESCRIPTION:
URL:https://www.sewellfuneralhomes.com/obituaries/anita-gates
LOCATION:Sewell Mortuary 220 Charlie Patterson Road  Grantville GA 30220
GEO:33.2413062;-84.8132891
END:VEVENT
END:VCALENDAR