BEGIN:VCALENDAR
VERSION:2.0
PRODID:-//Tukios.com/
BEGIN:VEVENT
UID:9a63bb7e-8c7b-4fa6-bf43-a4cd36e0c6e0@www.sewellfuneralhomes.com
DTSTAMP:20260424T153015Z
DTSTART:20260614T170000Z
DTEND:20260614T180000Z
SUMMARY:Funeral Service
DESCRIPTION:
URL:https://www.sewellfuneralhomes.com/obituaries/anita-gates
LOCATION:Springfield Baptist Church 304 Carter St  Greenville GA 30222
GEO:33.0259298;-84.71522
END:VEVENT
END:VCALENDAR