BEGIN:VCALENDAR
VERSION:2.0
PRODID:-//Tukios.com/
BEGIN:VEVENT
UID:1ae71274-4e11-4930-8e22-d6ed81cff32f@www.sewellfuneralhomes.com
DTSTAMP:20260420T082132Z
DTSTART:20260417T140000Z
DTEND:20260417T180000Z
SUMMARY:Viewing
DESCRIPTION:
URL:https://www.sewellfuneralhomes.com/obituaries/celia-smith
LOCATION:Branch Hebron Baptist Church 30 Branch Hebron Road  Greenville 
	GA 30222
GEO:33.014906;-84.8122222
END:VEVENT
END:VCALENDAR