BEGIN:VCALENDAR
VERSION:2.0
PRODID:-//Tukios.com/
BEGIN:VEVENT
UID:6658ac32-0818-41e1-82a9-6740e1144a44@www.sewellfuneralhomes.com
DTSTAMP:20260420T082459Z
DTSTART:20260417T183000Z
DTEND:20260417T193000Z
SUMMARY:Funeral Service
DESCRIPTION:
URL:https://www.sewellfuneralhomes.com/obituaries/celia-smith
LOCATION:Branch Hebron Baptist Church 30 Branch Hebron Road  Greenville 
	GA 30222
GEO:33.014906;-84.8122222
END:VEVENT
END:VCALENDAR