BEGIN:VCALENDAR
VERSION:2.0
PRODID:-//Tukios.com/
BEGIN:VEVENT
UID:8005855c-bf55-4f51-84d2-45464c075ba6@www.sewellfuneralhomes.com
DTSTAMP:20260421T033459Z
DTSTART:20260814T190000Z
DTEND:20260814T220000Z
SUMMARY:Visitation
DESCRIPTION:
URL:https://www.sewellfuneralhomes.com/obituaries/frank-snelling
LOCATION:Sewell Mortuary 220 Charlie Patterson Road  Grantville GA 30220
GEO:33.2413062;-84.8132891
END:VEVENT
END:VCALENDAR