BEGIN:VCALENDAR
VERSION:2.0
PRODID:-//Tukios.com/
BEGIN:VEVENT
UID:44355e9d-4410-40f7-b413-5bd1e64de1e7@www.sewellfuneralhomes.com
DTSTAMP:20260421T033838Z
DTSTART:20260815T160000Z
DTEND:20260815T170000Z
SUMMARY:Graveside Service
DESCRIPTION:
URL:https://www.sewellfuneralhomes.com/obituaries/frank-snelling
LOCATION:White Oak Grove Baptist Church 4619 Gordon Road  Senoia GA 30276
GEO:33.2650692;-84.6493806
END:VEVENT
END:VCALENDAR