BEGIN:VCALENDAR
VERSION:2.0
PRODID:-//Tukios.com/
BEGIN:VEVENT
UID:42438197-9b05-49b9-bb4b-8077d911e329@www.sewellfuneralhomes.com
DTSTAMP:20260422T162150Z
DTSTART:20260826T210000Z
DTEND:20260826T230000Z
SUMMARY:Visitation
DESCRIPTION:
URL:https://www.sewellfuneralhomes.com/obituaries/glover-sewell
LOCATION:Sewell Mortuary 220 Charlie Patterson Road  Grantville GA 30220
GEO:33.2413062;-84.8132891
END:VEVENT
END:VCALENDAR