BEGIN:VCALENDAR
VERSION:2.0
PRODID:-//Tukios.com/
BEGIN:VEVENT
UID:fcce9222-f25f-4dee-9572-c47daae16892@www.sewellfuneralhomes.com
DTSTAMP:20260422T161714Z
DTSTART:20260827T160000Z
DTEND:20260827T170000Z
SUMMARY:Graveside Service
DESCRIPTION:
URL:https://www.sewellfuneralhomes.com/obituaries/glover-sewell
LOCATION:Zion Hill Missionary Baptist Church Cemetery 2950 Primrose Road  
	Greenville GA 30222
GEO:33.1647506;-84.7659363
END:VEVENT
END:VCALENDAR