BEGIN:VCALENDAR
VERSION:2.0
PRODID:-//Tukios.com/
BEGIN:VEVENT
UID:411f0845-2e32-4005-a1ad-a78edc21afee@www.sewellfuneralhomes.com
DTSTAMP:20260422T172749Z
DTSTART:20260816T210000Z
DTEND:20260816T230000Z
SUMMARY:Visitation
DESCRIPTION:
URL:https://www.sewellfuneralhomes.com/obituaries/hubert-simmons
LOCATION:Sewell Mortuary 220 Charlie Patterson Road  Grantville GA 30220
GEO:33.2413062;-84.8132891
END:VEVENT
END:VCALENDAR