BEGIN:VCALENDAR
VERSION:2.0
PRODID:-//Tukios.com/
BEGIN:VEVENT
UID:bb53c61d-f3f6-48c3-a0dd-9ffa7058c1ea@www.sewellfuneralhomes.com
DTSTAMP:20260422T172339Z
DTSTART:20260817T160000Z
DTEND:20260817T170000Z
SUMMARY:Graveside Service
DESCRIPTION:
URL:https://www.sewellfuneralhomes.com/obituaries/hubert-simmons
LOCATION:Mt. Calvary Baptist Church Cemetery 501 Bear Creek Road  
	Moreland GA 30259
GEO:33.2573884;-84.6963373
END:VEVENT
END:VCALENDAR