BEGIN:VCALENDAR
VERSION:2.0
PRODID:-//Tukios.com/
BEGIN:VEVENT
UID:a3c2b040-6436-4865-b3ee-2a80363ba0b5@www.sewellfuneralhomes.com
DTSTAMP:20260424T162309Z
DTSTART:20261011T150000Z
DTEND:20261011T160000Z
SUMMARY:Funeral Service
DESCRIPTION:
URL:https://www.sewellfuneralhomes.com/obituaries/juanita-parks
LOCATION:Branch Hebron Baptist Church 30 Branch Hebron Road  Greenville 
	GA 30222
GEO:33.014906;-84.8122222
END:VEVENT
END:VCALENDAR