BEGIN:VCALENDAR
VERSION:2.0
PRODID:-//Tukios.com/
BEGIN:VEVENT
UID:4fd0041c-5c0e-4619-8744-9ca94319032e@www.sewellfuneralhomes.com
DTSTAMP:20260425T142317Z
DTSTART:20261229T220000Z
DTEND:20261230T000000Z
SUMMARY:Visitation
DESCRIPTION:
URL:https://www.sewellfuneralhomes.com/obituaries/mack-clayton
LOCATION:Sewell Mortuary 220 Charlie Patterson Road  Grantville GA 30220
GEO:33.2413062;-84.8132891
END:VEVENT
END:VCALENDAR