BEGIN:VCALENDAR
VERSION:2.0
PRODID:-//Tukios.com/
BEGIN:VEVENT
UID:26949853-cd6d-4503-b9a4-623dce1ffd58@www.sewellfuneralhomes.com
DTSTAMP:20260422T072357Z
DTSTART:20260627T150000Z
DTEND:20260627T160000Z
SUMMARY:Funeral Service
DESCRIPTION:
URL:https://www.sewellfuneralhomes.com/obituaries/mildred-render
LOCATION:Trinity Church 77 Trinity Street  Warm Springs GA 31830
GEO:32.9130694;-84.7701304
END:VEVENT
END:VCALENDAR