BEGIN:VCALENDAR
VERSION:2.0
PRODID:-//Tukios.com/
BEGIN:VEVENT
UID:51b8362f-250d-44b7-834f-d3dfabb1b9e2@www.sewellfuneralhomes.com
DTSTAMP:20260421T091206Z
DTSTART:20260613T180000Z
DTEND:20260613T190000Z
SUMMARY:Funeral Service
DESCRIPTION:
URL:https://www.sewellfuneralhomes.com/obituaries/milton-williams
LOCATION:New Friendship Baptist Church    Greenville GA 30222
GEO:32.9623204;-84.8455119
END:VEVENT
END:VCALENDAR