BEGIN:VCALENDAR
VERSION:2.0
PRODID:-//Tukios.com/
BEGIN:VEVENT
UID:0bf45abb-da7b-4ab4-b810-84be0ac86189@www.sewellfuneralhomes.com
DTSTAMP:20260423T123700Z
DTSTART:20260909T220000Z
DTEND:20260909T230000Z
SUMMARY:Visitation
DESCRIPTION:
URL:https://www.sewellfuneralhomes.com/obituaries/norman-stewart
LOCATION:Sewell Mortuary 220 Charlie Patterson Road  Grantville GA 30220
GEO:33.2413062;-84.8132891
END:VEVENT
END:VCALENDAR