BEGIN:VCALENDAR
VERSION:2.0
PRODID:-//Tukios.com/
BEGIN:VEVENT
UID:d0d8ea5f-dd22-45ed-8043-5f4c49b73ec7@www.sewellfuneralhomes.com
DTSTAMP:20260423T123609Z
DTSTART:20260910T150000Z
DTEND:20260910T160000Z
SUMMARY:Funeral Service
DESCRIPTION:
URL:https://www.sewellfuneralhomes.com/obituaries/norman-stewart
LOCATION:John Wesley United Methodist Church 155 Church Street  
	Grantville GA 30220
GEO:33.2309671;-84.8358615
END:VEVENT
END:VCALENDAR