BEGIN:VCALENDAR
VERSION:2.0
PRODID:-//Tukios.com/
BEGIN:VEVENT
UID:818a4514-9f1d-4329-a652-287f0248237a@www.sewellfuneralhomes.com
DTSTAMP:20260422T173716Z
DTSTART:20260601T170000Z
DTEND:20260601T180000Z
SUMMARY:Funeral Service
DESCRIPTION:
URL:https://www.sewellfuneralhomes.com/obituaries/stephanie-walker
LOCATION:Total Faith Missionary Church 104 Railroad Street  Luthersville 
	GA 30251
GEO:33.2049971;-84.7456142
END:VEVENT
END:VCALENDAR