BEGIN:VCALENDAR
VERSION:2.0
PRODID:-//Tukios.com/
BEGIN:VEVENT
UID:4b15ff3a-f7b5-4f0c-a9f0-bb448010ef19@www.sewellfuneralhomes.com
DTSTAMP:20260422T173548Z
DTSTART:20260624T200000Z
DTEND:20260624T230000Z
SUMMARY:Visitation
DESCRIPTION:
URL:https://www.sewellfuneralhomes.com/obituaries/stephanie-walker
LOCATION:Sewell Mortuary 220 Charlie Patterson Road  Grantville GA 30220
GEO:33.2413062;-84.8132891
END:VEVENT
END:VCALENDAR